BEGIN:VCALENDAR
VERSION:2.0
PRODID:-//Infant Toddler - ECPv6.15.12.1//NONSGML v1.0//EN
CALSCALE:GREGORIAN
METHOD:PUBLISH
X-ORIGINAL-URL:https://www.infanttoddler.com
X-WR-CALDESC:Events for Infant Toddler
REFRESH-INTERVAL;VALUE=DURATION:PT1H
X-Robots-Tag:noindex
X-PUBLISHED-TTL:PT1H
BEGIN:VTIMEZONE
TZID:America/New_York
BEGIN:DAYLIGHT
TZOFFSETFROM:-0500
TZOFFSETTO:-0400
TZNAME:EDT
DTSTART:20190310T070000
END:DAYLIGHT
BEGIN:STANDARD
TZOFFSETFROM:-0400
TZOFFSETTO:-0500
TZNAME:EST
DTSTART:20191103T060000
END:STANDARD
BEGIN:DAYLIGHT
TZOFFSETFROM:-0500
TZOFFSETTO:-0400
TZNAME:EDT
DTSTART:20200308T070000
END:DAYLIGHT
BEGIN:STANDARD
TZOFFSETFROM:-0400
TZOFFSETTO:-0500
TZNAME:EST
DTSTART:20201101T060000
END:STANDARD
BEGIN:DAYLIGHT
TZOFFSETFROM:-0500
TZOFFSETTO:-0400
TZNAME:EDT
DTSTART:20210314T070000
END:DAYLIGHT
BEGIN:STANDARD
TZOFFSETFROM:-0400
TZOFFSETTO:-0500
TZNAME:EST
DTSTART:20211107T060000
END:STANDARD
BEGIN:DAYLIGHT
TZOFFSETFROM:-0500
TZOFFSETTO:-0400
TZNAME:EDT
DTSTART:20220313T070000
END:DAYLIGHT
BEGIN:STANDARD
TZOFFSETFROM:-0400
TZOFFSETTO:-0500
TZNAME:EST
DTSTART:20221106T060000
END:STANDARD
END:VTIMEZONE
BEGIN:VEVENT
DTSTART;TZID=America/New_York:20201201T133000
DTEND;TZID=America/New_York:20201201T143000
DTSTAMP:20260422T133552
CREATED:20201022T150047Z
LAST-MODIFIED:20201022T150140Z
UID:10221-1606829400-1606833000@www.infanttoddler.com
SUMMARY:Provider Orientation
DESCRIPTION:Register and Attend an upcoming Provider Information Session.
URL:https://www.infanttoddler.com/event/provider-orientation-12012020/
LOCATION:Webinar
END:VEVENT
BEGIN:VEVENT
DTSTART;TZID=America/New_York:20201202T190000
DTEND;TZID=America/New_York:20201202T200000
DTSTAMP:20260422T133552
CREATED:20200903T141323Z
LAST-MODIFIED:20200903T141403Z
UID:10131-1606935600-1606939200@www.infanttoddler.com
SUMMARY:Parent Information Session - Webinar
DESCRIPTION:You are invited to learn more about Infant Toddler Family Day Care and how you can become part of our family. \nContact our office or complete a Child Care Application to register.
URL:https://www.infanttoddler.com/event/parent-information-session-12-2-2020/
LOCATION:Webinar
END:VEVENT
BEGIN:VEVENT
DTSTART;TZID=America/New_York:20201203T190000
DTEND;TZID=America/New_York:20201203T203000
DTSTAMP:20260422T133552
CREATED:20200923T142723Z
LAST-MODIFIED:20200923T143017Z
UID:10159-1607022000-1607027400@www.infanttoddler.com
SUMMARY:Marketing Training
DESCRIPTION:This class will focus on marketing and interviewing strategies to help business thrive during Covid19 Pandemic.\nHow to market online and provide virtual tours of your home.  Includes phone and email etiquette\, and marketing techniques. \n\nTo register:  https://register.gotowebinar.com/register/3792497488977168141
URL:https://www.infanttoddler.com/event/marketingtraining_12032020/
LOCATION:Webinar
END:VEVENT
BEGIN:VEVENT
DTSTART;TZID=America/New_York:20201211T130000
DTEND;TZID=America/New_York:20201211T140000
DTSTAMP:20260422T133552
CREATED:20200903T141413Z
LAST-MODIFIED:20200903T141453Z
UID:10134-1607691600-1607695200@www.infanttoddler.com
SUMMARY:Parent Information Session - Webinar
DESCRIPTION:You are invited to learn more about Infant Toddler Family Day Care and how you can become part of our family. \nContact our office or complete a Child Care Application to register.
URL:https://www.infanttoddler.com/event/parent-information-session-12-11-2020/
LOCATION:Webinar
END:VEVENT
BEGIN:VEVENT
DTSTART;TZID=America/New_York:20201219T100000
DTEND;TZID=America/New_York:20201219T110000
DTSTAMP:20260422T133552
CREATED:20200903T141503Z
LAST-MODIFIED:20200903T141539Z
UID:10137-1608372000-1608375600@www.infanttoddler.com
SUMMARY:Parent Information Session - Webinar
DESCRIPTION:You are invited to learn more about Infant Toddler Family Day Care and how you can become part of our family. \nContact our office or complete a Child Care Application to register.
URL:https://www.infanttoddler.com/event/parent-information-session-12-19-2020/
LOCATION:Webinar
END:VEVENT
BEGIN:VEVENT
DTSTART;VALUE=DATE:20201225
DTEND;VALUE=DATE:20210102
DTSTAMP:20260422T133552
CREATED:20191016T144454Z
LAST-MODIFIED:20191016T144536Z
UID:7395-1608854400-1609545599@www.infanttoddler.com
SUMMARY:Winter Break
DESCRIPTION:Office and Family Child Care Homes will be CLOSED.
URL:https://www.infanttoddler.com/event/2020winterbreak/
END:VEVENT
END:VCALENDAR