BEGIN:VCALENDAR
VERSION:2.0
PRODID:-//Infant Toddler - ECPv6.15.12.1//NONSGML v1.0//EN
CALSCALE:GREGORIAN
METHOD:PUBLISH
X-WR-CALNAME:Infant Toddler
X-ORIGINAL-URL:https://www.infanttoddler.com
X-WR-CALDESC:Events for Infant Toddler
REFRESH-INTERVAL;VALUE=DURATION:PT1H
X-Robots-Tag:noindex
X-PUBLISHED-TTL:PT1H
BEGIN:VTIMEZONE
TZID:America/New_York
BEGIN:DAYLIGHT
TZOFFSETFROM:-0500
TZOFFSETTO:-0400
TZNAME:EDT
DTSTART:20190310T070000
END:DAYLIGHT
BEGIN:STANDARD
TZOFFSETFROM:-0400
TZOFFSETTO:-0500
TZNAME:EST
DTSTART:20191103T060000
END:STANDARD
BEGIN:DAYLIGHT
TZOFFSETFROM:-0500
TZOFFSETTO:-0400
TZNAME:EDT
DTSTART:20200308T070000
END:DAYLIGHT
BEGIN:STANDARD
TZOFFSETFROM:-0400
TZOFFSETTO:-0500
TZNAME:EST
DTSTART:20201101T060000
END:STANDARD
BEGIN:DAYLIGHT
TZOFFSETFROM:-0500
TZOFFSETTO:-0400
TZNAME:EDT
DTSTART:20210314T070000
END:DAYLIGHT
BEGIN:STANDARD
TZOFFSETFROM:-0400
TZOFFSETTO:-0500
TZNAME:EST
DTSTART:20211107T060000
END:STANDARD
END:VTIMEZONE
BEGIN:VEVENT
DTSTART;TZID=America/New_York:20200506T093000
DTEND;TZID=America/New_York:20200506T110000
DTSTAMP:20260423T013102
CREATED:20200221T164059Z
LAST-MODIFIED:20200221T164306Z
UID:8498-1588757400-1588762800@www.infanttoddler.com
SUMMARY:Provider Orientation
DESCRIPTION:Register and Attend an upcoming Provider Information Session.
URL:https://www.infanttoddler.com/event/provider-orientation-05052020/
LOCATION:Infant Toddler Family Day Care\, 11166 Fairfax Blvd.\, Suite 206\, Fairfax\, VA\, 22030\, United States
END:VEVENT
BEGIN:VEVENT
DTSTART;TZID=America/New_York:20200509T100000
DTEND;TZID=America/New_York:20200509T110000
DTSTAMP:20260423T013102
CREATED:20200206T170945Z
LAST-MODIFIED:20200416T190127Z
UID:8325-1589018400-1589022000@www.infanttoddler.com
SUMMARY:Parent Information Session - CANCELLED
DESCRIPTION:You are invited to learn more about Infant Toddler Family Day Care and how you can become part of our family. \nContact our office or complete a Child Care Application to register.
URL:https://www.infanttoddler.com/event/parent-information-session-05-09-2020/
LOCATION:Infant Toddler Family Day Care\, 11166 Fairfax Blvd.\, Suite 206\, Fairfax\, VA\, 22030\, United States
END:VEVENT
BEGIN:VEVENT
DTSTART;TZID=America/New_York:20200513T130000
DTEND;TZID=America/New_York:20200513T150000
DTSTAMP:20260423T013102
CREATED:20200206T171505Z
LAST-MODIFIED:20200422T182734Z
UID:8328-1589374800-1589382000@www.infanttoddler.com
SUMMARY:Parent Information Session - Webinar
DESCRIPTION:You are invited to learn more about Infant Toddler Family Day Care and how you can become part of our family. \nContact our office or complete a Child Care Application to register.
URL:https://www.infanttoddler.com/event/parent-information-session-05-13-2020/
LOCATION:Webinar
END:VEVENT
BEGIN:VEVENT
DTSTART;VALUE=DATE:20200525
DTEND;VALUE=DATE:20200526
DTSTAMP:20260423T013102
CREATED:20191016T143337Z
LAST-MODIFIED:20191016T143422Z
UID:7374-1590364800-1590451199@www.infanttoddler.com
SUMMARY:Memorial Day
DESCRIPTION:Office and Family Child Care Homes will be CLOSED.
URL:https://www.infanttoddler.com/event/2020memorialday/
END:VEVENT
BEGIN:VEVENT
DTSTART;TZID=America/New_York:20200526T130000
DTEND;TZID=America/New_York:20200526T140000
DTSTAMP:20260423T013102
CREATED:20200206T171706Z
LAST-MODIFIED:20200206T171750Z
UID:8333-1590498000-1590501600@www.infanttoddler.com
SUMMARY:Parent Information Session - Webinar
DESCRIPTION:You are invited to learn more about Infant Toddler Family Day Care and how you can become part of our family. \nContact our office or complete a Child Care Application to register.
URL:https://www.infanttoddler.com/event/parent-information-session-05-26-2020/
LOCATION:Webinar
END:VEVENT
END:VCALENDAR