BEGIN:VCALENDAR
VERSION:2.0
PRODID:-//Infant Toddler - ECPv6.15.12.1//NONSGML v1.0//EN
CALSCALE:GREGORIAN
METHOD:PUBLISH
X-ORIGINAL-URL:https://www.infanttoddler.com
X-WR-CALDESC:Events for Infant Toddler
REFRESH-INTERVAL;VALUE=DURATION:PT1H
X-Robots-Tag:noindex
X-PUBLISHED-TTL:PT1H
BEGIN:VTIMEZONE
TZID:America/New_York
BEGIN:DAYLIGHT
TZOFFSETFROM:-0500
TZOFFSETTO:-0400
TZNAME:EDT
DTSTART:20190310T070000
END:DAYLIGHT
BEGIN:STANDARD
TZOFFSETFROM:-0400
TZOFFSETTO:-0500
TZNAME:EST
DTSTART:20191103T060000
END:STANDARD
BEGIN:DAYLIGHT
TZOFFSETFROM:-0500
TZOFFSETTO:-0400
TZNAME:EDT
DTSTART:20200308T070000
END:DAYLIGHT
BEGIN:STANDARD
TZOFFSETFROM:-0400
TZOFFSETTO:-0500
TZNAME:EST
DTSTART:20201101T060000
END:STANDARD
BEGIN:DAYLIGHT
TZOFFSETFROM:-0500
TZOFFSETTO:-0400
TZNAME:EDT
DTSTART:20210314T070000
END:DAYLIGHT
BEGIN:STANDARD
TZOFFSETFROM:-0400
TZOFFSETTO:-0500
TZNAME:EST
DTSTART:20211107T060000
END:STANDARD
END:VTIMEZONE
BEGIN:VEVENT
DTSTART;TZID=America/New_York:20200402T093000
DTEND;TZID=America/New_York:20200402T110000
DTSTAMP:20260423T032122
CREATED:20200221T163958Z
LAST-MODIFIED:20200316T153127Z
UID:8495-1585819800-1585825200@www.infanttoddler.com
SUMMARY:Provider Orientation - CANCELLED
DESCRIPTION:Please note this session has been CANCELLED.  Please visit this page for other dates.
URL:https://www.infanttoddler.com/event/provider-orientation-04022020/
LOCATION:Infant Toddler Family Day Care\, 11166 Fairfax Blvd.\, Suite 206\, Fairfax\, VA\, 22030\, United States
END:VEVENT
BEGIN:VEVENT
DTSTART;TZID=America/New_York:20200416T130000
DTEND;TZID=America/New_York:20200416T143000
DTSTAMP:20260423T032122
CREATED:20200206T165839Z
LAST-MODIFIED:20200415T164319Z
UID:8319-1587042000-1587047400@www.infanttoddler.com
SUMMARY:Parent Information Session - Webinar
DESCRIPTION:You are invited to learn more about Infant Toddler Family Day Care and how you can become part of our family. \nContact our office or complete a Child Care Application to register.
URL:https://www.infanttoddler.com/event/parent-information-session-04-15-2020/
LOCATION:Webinar
END:VEVENT
BEGIN:VEVENT
DTSTART;TZID=America/New_York:20200416T190000
DTEND;TZID=America/New_York:20200416T210000
DTSTAMP:20260423T032122
CREATED:20200210T165126Z
LAST-MODIFIED:20200318T161413Z
UID:8383-1587063600-1587070800@www.infanttoddler.com
SUMMARY:Bounce Back Through Books - CANCELLED
DESCRIPTION:This two-hour workshop will explore the meaning of attachment and its importance in developing healthy social-emotional development in infants and toddlers.  Participants will learn how to enhance relationships and build resilience through the use of books.
URL:https://www.infanttoddler.com/event/bouncbackthroughbooks_04162020/
LOCATION:Infant Toddler Family Day Care\, 11166 Fairfax Blvd.\, Suite 206\, Fairfax\, VA\, 22030\, United States
END:VEVENT
BEGIN:VEVENT
DTSTART;TZID=America/New_York:20200418T170000
DTEND;TZID=America/New_York:20200418T193000
DTSTAMP:20260423T032122
CREATED:20200210T162022Z
LAST-MODIFIED:20200317T150353Z
UID:8373-1587229200-1587238200@www.infanttoddler.com
SUMMARY:2020 International Dinner - CANCELLED
DESCRIPTION:WE ARE SORRY BUT THE 2020 INTERNATIONAL DINNER HAS BEEN CANCELLED DUE TO THE CURRENT CORONAVIRUS OUTBREAK. \n 
URL:https://www.infanttoddler.com/event/2020-intl-dinner/
LOCATION:Sydenstricker United Methodist Church\, 8508 Hooes Road\, Springfield\, VA\, 22153
END:VEVENT
BEGIN:VEVENT
DTSTART;TZID=America/New_York:20200428T130000
DTEND;TZID=America/New_York:20200428T150000
DTSTAMP:20260423T032122
CREATED:20200206T165941Z
LAST-MODIFIED:20200422T182705Z
UID:8322-1588078800-1588086000@www.infanttoddler.com
SUMMARY:Parent Information Session - Webinar
DESCRIPTION:You are invited to learn more about Infant Toddler Family Day Care and how you can become part of our family. \nContact our office or complete a Child Care Application to register.
URL:https://www.infanttoddler.com/event/parent-information-session-04-28-2020/
LOCATION:Webinar
END:VEVENT
END:VCALENDAR