BEGIN:VCALENDAR
VERSION:2.0
PRODID:-//Infant Toddler - ECPv6.15.12.1//NONSGML v1.0//EN
CALSCALE:GREGORIAN
METHOD:PUBLISH
X-ORIGINAL-URL:https://www.infanttoddler.com
X-WR-CALDESC:Events for Infant Toddler
REFRESH-INTERVAL;VALUE=DURATION:PT1H
X-Robots-Tag:noindex
X-PUBLISHED-TTL:PT1H
BEGIN:VTIMEZONE
TZID:America/New_York
BEGIN:DAYLIGHT
TZOFFSETFROM:-0500
TZOFFSETTO:-0400
TZNAME:EDT
DTSTART:20180311T070000
END:DAYLIGHT
BEGIN:STANDARD
TZOFFSETFROM:-0400
TZOFFSETTO:-0500
TZNAME:EST
DTSTART:20181104T060000
END:STANDARD
BEGIN:DAYLIGHT
TZOFFSETFROM:-0500
TZOFFSETTO:-0400
TZNAME:EDT
DTSTART:20190310T070000
END:DAYLIGHT
BEGIN:STANDARD
TZOFFSETFROM:-0400
TZOFFSETTO:-0500
TZNAME:EST
DTSTART:20191103T060000
END:STANDARD
BEGIN:DAYLIGHT
TZOFFSETFROM:-0500
TZOFFSETTO:-0400
TZNAME:EDT
DTSTART:20200308T070000
END:DAYLIGHT
BEGIN:STANDARD
TZOFFSETFROM:-0400
TZOFFSETTO:-0500
TZNAME:EST
DTSTART:20201101T060000
END:STANDARD
BEGIN:DAYLIGHT
TZOFFSETFROM:-0500
TZOFFSETTO:-0400
TZNAME:EDT
DTSTART:20210314T070000
END:DAYLIGHT
BEGIN:STANDARD
TZOFFSETFROM:-0400
TZOFFSETTO:-0500
TZNAME:EST
DTSTART:20211107T060000
END:STANDARD
END:VTIMEZONE
BEGIN:VEVENT
DTSTART;VALUE=DATE:20191225
DTEND;VALUE=DATE:20200102
DTSTAMP:20260423T085738
CREATED:20181003T161431Z
LAST-MODIFIED:20181003T161510Z
UID:4878-1577232000-1577923199@www.infanttoddler.com
SUMMARY:Winter Break
DESCRIPTION:Office and Family Child Care Homes will be CLOSED.
URL:https://www.infanttoddler.com/event/2019winterbreak/
END:VEVENT
BEGIN:VEVENT
DTSTART;TZID=America/New_York:20200111T100000
DTEND;TZID=America/New_York:20200111T113000
DTSTAMP:20260423T085738
CREATED:20191027T215251Z
LAST-MODIFIED:20191027T215447Z
UID:7479-1578736800-1578742200@www.infanttoddler.com
SUMMARY:Tax Workshop
DESCRIPTION:Learn how to prepare your 2019 tax return.  Training time will vary with provider questions!  Snow Date is 1/18/2020.
URL:https://www.infanttoddler.com/event/taxworkshop-01112020/
LOCATION:Infant Toddler Family Day Care\, 11166 Fairfax Blvd.\, Suite 206\, Fairfax\, VA\, 22030\, United States
END:VEVENT
BEGIN:VEVENT
DTSTART;TZID=America/New_York:20200111T100000
DTEND;TZID=America/New_York:20200111T120000
DTSTAMP:20260423T085738
CREATED:20191022T160637Z
LAST-MODIFIED:20191022T160730Z
UID:7420-1578736800-1578744000@www.infanttoddler.com
SUMMARY:Parent Information Session
DESCRIPTION:You are invited to learn more about Infant Toddler Family Day Care and how you can become part of our family. \nContact our office or complete a Child Care Application to register.
URL:https://www.infanttoddler.com/event/parent-information-session-01-11-2020/
LOCATION:Infant Toddler Family Day Care\, 11166 Fairfax Blvd.\, Suite 206\, Fairfax\, VA\, 22030\, United States
END:VEVENT
BEGIN:VEVENT
DTSTART;TZID=America/New_York:20200116T130000
DTEND;TZID=America/New_York:20200116T143000
DTSTAMP:20260423T085738
CREATED:20191022T160751Z
LAST-MODIFIED:20191022T160835Z
UID:7423-1579179600-1579185000@www.infanttoddler.com
SUMMARY:Parent Information Session - Webinar
DESCRIPTION:You are invited to learn more about Infant Toddler Family Day Care and how you can become part of our family. \nContact our office or complete a Child Care Application to register.
URL:https://www.infanttoddler.com/event/parent-information-session-01-16-2020/
LOCATION:Webinar
END:VEVENT
BEGIN:VEVENT
DTSTART;VALUE=DATE:20200120
DTEND;VALUE=DATE:20200121
DTSTAMP:20260423T085738
CREATED:20191016T142935Z
LAST-MODIFIED:20191016T143013Z
UID:7368-1579478400-1579564799@www.infanttoddler.com
SUMMARY:MLK Day
DESCRIPTION:Office and Family Child Care Homes will be CLOSED.
URL:https://www.infanttoddler.com/event/2020mlkday-copy/
END:VEVENT
BEGIN:VEVENT
DTSTART;TZID=America/New_York:20200122T183000
DTEND;TZID=America/New_York:20200122T200000
DTSTAMP:20260423T085738
CREATED:20191022T160850Z
LAST-MODIFIED:20191022T161030Z
UID:7426-1579717800-1579723200@www.infanttoddler.com
SUMMARY:Parent Information Session
DESCRIPTION:You are invited to learn more about Infant Toddler Family Day Care and how you can become part of our family. \nContact our office or complete a Child Care Application to register.
URL:https://www.infanttoddler.com/event/parent-information-session-01-22-2020/
LOCATION:Infant Toddler Family Day Care\, 11166 Fairfax Blvd.\, Suite 206\, Fairfax\, VA\, 22030\, United States
END:VEVENT
END:VCALENDAR