BEGIN:VCALENDAR
VERSION:2.0
PRODID:-//Infant Toddler - ECPv6.15.12.1//NONSGML v1.0//EN
CALSCALE:GREGORIAN
METHOD:PUBLISH
X-ORIGINAL-URL:https://www.infanttoddler.com
X-WR-CALDESC:Events for Infant Toddler
REFRESH-INTERVAL;VALUE=DURATION:PT1H
X-Robots-Tag:noindex
X-PUBLISHED-TTL:PT1H
BEGIN:VTIMEZONE
TZID:America/New_York
BEGIN:DAYLIGHT
TZOFFSETFROM:-0500
TZOFFSETTO:-0400
TZNAME:EDT
DTSTART:20180311T070000
END:DAYLIGHT
BEGIN:STANDARD
TZOFFSETFROM:-0400
TZOFFSETTO:-0500
TZNAME:EST
DTSTART:20181104T060000
END:STANDARD
BEGIN:DAYLIGHT
TZOFFSETFROM:-0500
TZOFFSETTO:-0400
TZNAME:EDT
DTSTART:20190310T070000
END:DAYLIGHT
BEGIN:STANDARD
TZOFFSETFROM:-0400
TZOFFSETTO:-0500
TZNAME:EST
DTSTART:20191103T060000
END:STANDARD
BEGIN:DAYLIGHT
TZOFFSETFROM:-0500
TZOFFSETTO:-0400
TZNAME:EDT
DTSTART:20200308T070000
END:DAYLIGHT
BEGIN:STANDARD
TZOFFSETFROM:-0400
TZOFFSETTO:-0500
TZNAME:EST
DTSTART:20201101T060000
END:STANDARD
END:VTIMEZONE
BEGIN:VEVENT
DTSTART;VALUE=DATE:20190902
DTEND;VALUE=DATE:20190903
DTSTAMP:20260423T154601
CREATED:20181003T160337Z
LAST-MODIFIED:20181003T160726Z
UID:4860-1567382400-1567468799@www.infanttoddler.com
SUMMARY:Labor Day
DESCRIPTION:Office and Family Child Care Homes will be CLOSED.
URL:https://www.infanttoddler.com/event/2019laborday/
END:VEVENT
BEGIN:VEVENT
DTSTART;TZID=America/New_York:20190904T100000
DTEND;TZID=America/New_York:20190904T110000
DTSTAMP:20260423T154601
CREATED:20190627T155540Z
LAST-MODIFIED:20190627T155624Z
UID:6626-1567591200-1567594800@www.infanttoddler.com
SUMMARY:Provider Orientation
DESCRIPTION:Register and Attend an upcoming Provider Information Session.
URL:https://www.infanttoddler.com/event/provider-orientation-09042019/
LOCATION:Infant Toddler Family Day Care\, 11166 Fairfax Blvd.\, Suite 206\, Fairfax\, VA\, 22030\, United States
END:VEVENT
BEGIN:VEVENT
DTSTART;TZID=America/New_York:20190904T183000
DTEND;TZID=America/New_York:20190904T200000
DTSTAMP:20260423T154601
CREATED:20190422T151944Z
LAST-MODIFIED:20190422T152027Z
UID:6119-1567621800-1567627200@www.infanttoddler.com
SUMMARY:Parent Information Session
DESCRIPTION:You are invited to learn more about Infant Toddler Family Day Care and how you can become part of our family. \nContact our office or complete a Child Care Application to register.
URL:https://www.infanttoddler.com/event/parent-information-session-9-4-2019/
LOCATION:Infant Toddler Family Day Care\, 11166 Fairfax Blvd.\, Suite 206\, Fairfax\, VA\, 22030\, United States
END:VEVENT
BEGIN:VEVENT
DTSTART;TZID=America/New_York:20190914T093000
DTEND;TZID=America/New_York:20190914T123000
DTSTAMP:20260423T154601
CREATED:20190612T021351Z
LAST-MODIFIED:20190612T022013Z
UID:6486-1568453400-1568464200@www.infanttoddler.com
SUMMARY:Overview of Positive Guidance
DESCRIPTION:Learn positive strategies for guiding behavior that build & foster confidence\, cooperation\, and self-regulation.
URL:https://www.infanttoddler.com/event/positive-strategies-for-guiding-behaoverviewofpositiveguidance_09142019/
LOCATION:Infant Toddler Family Day Care\, 11166 Fairfax Blvd.\, Suite 206\, Fairfax\, VA\, 22030\, United States
END:VEVENT
BEGIN:VEVENT
DTSTART;TZID=America/New_York:20190915T120000
DTEND;TZID=America/New_York:20190915T150000
DTSTAMP:20260423T154601
CREATED:20190612T194502Z
LAST-MODIFIED:20190612T194814Z
UID:6513-1568548800-1568559600@www.infanttoddler.com
SUMMARY:2019 Provider Appreciation Luncheon
DESCRIPTION:Annual Provider Appreciation Luncheon \nCall our office (703-352-3449) to RSVP or online at:  https://www.surveymonkey.com/r/2019ProviderAppreciation \n 
URL:https://www.infanttoddler.com/event/2019providerappreciation/
LOCATION:Waterford at Fair Oaks\, 12025 Lee Jackson Memorial Highway\, Fairfax\, 22033\, United States
END:VEVENT
BEGIN:VEVENT
DTSTART;TZID=America/New_York:20190918T130000
DTEND;TZID=America/New_York:20190918T143000
DTSTAMP:20260423T154601
CREATED:20190422T152042Z
LAST-MODIFIED:20190426T160251Z
UID:6122-1568811600-1568817000@www.infanttoddler.com
SUMMARY:Parent Information Session - Webinar
DESCRIPTION:You are invited to learn more about Infant Toddler Family Day Care and how you can become part of our family. \nContact our office or complete a Child Care Application to register.
URL:https://www.infanttoddler.com/event/parent-information-session-9-18-2019/
LOCATION:Webinar
END:VEVENT
BEGIN:VEVENT
DTSTART;TZID=America/New_York:20190928T100000
DTEND;TZID=America/New_York:20190928T113000
DTSTAMP:20260423T154601
CREATED:20190422T152144Z
LAST-MODIFIED:20190422T152228Z
UID:6125-1569664800-1569670200@www.infanttoddler.com
SUMMARY:Parent Information Session
DESCRIPTION:You are invited to learn more about Infant Toddler Family Day Care and how you can become part of our family. \nContact our office or complete a Child Care Application to register.
URL:https://www.infanttoddler.com/event/parent-information-session-9-28-2019/
LOCATION:Infant Toddler Family Day Care\, 11166 Fairfax Blvd.\, Suite 206\, Fairfax\, VA\, 22030\, United States
END:VEVENT
END:VCALENDAR