BEGIN:VCALENDAR
VERSION:2.0
PRODID:-//Infant Toddler - ECPv6.15.12.1//NONSGML v1.0//EN
CALSCALE:GREGORIAN
METHOD:PUBLISH
X-WR-CALNAME:Infant Toddler
X-ORIGINAL-URL:https://www.infanttoddler.com
X-WR-CALDESC:Events for Infant Toddler
REFRESH-INTERVAL;VALUE=DURATION:PT1H
X-Robots-Tag:noindex
X-PUBLISHED-TTL:PT1H
BEGIN:VTIMEZONE
TZID:America/New_York
BEGIN:DAYLIGHT
TZOFFSETFROM:-0500
TZOFFSETTO:-0400
TZNAME:EDT
DTSTART:20180311T070000
END:DAYLIGHT
BEGIN:STANDARD
TZOFFSETFROM:-0400
TZOFFSETTO:-0500
TZNAME:EST
DTSTART:20181104T060000
END:STANDARD
BEGIN:DAYLIGHT
TZOFFSETFROM:-0500
TZOFFSETTO:-0400
TZNAME:EDT
DTSTART:20190310T070000
END:DAYLIGHT
BEGIN:STANDARD
TZOFFSETFROM:-0400
TZOFFSETTO:-0500
TZNAME:EST
DTSTART:20191103T060000
END:STANDARD
BEGIN:DAYLIGHT
TZOFFSETFROM:-0500
TZOFFSETTO:-0400
TZNAME:EDT
DTSTART:20200308T070000
END:DAYLIGHT
BEGIN:STANDARD
TZOFFSETFROM:-0400
TZOFFSETTO:-0500
TZNAME:EST
DTSTART:20201101T060000
END:STANDARD
END:VTIMEZONE
BEGIN:VEVENT
DTSTART;TZID=America/New_York:20190702T093000
DTEND;TZID=America/New_York:20190702T113000
DTSTAMP:20260423T190018
CREATED:20190426T155543Z
LAST-MODIFIED:20190426T155614Z
UID:6150-1562059800-1562067000@www.infanttoddler.com
SUMMARY:Provider Orientation
DESCRIPTION:Register and Attend an upcoming Provider Information Session.
URL:https://www.infanttoddler.com/event/provider-orientation-july22019/
LOCATION:Infant Toddler Family Day Care\, 11166 Fairfax Blvd.\, Suite 206\, Fairfax\, VA\, 22030\, United States
END:VEVENT
BEGIN:VEVENT
DTSTART;VALUE=DATE:20190703
DTEND;VALUE=DATE:20190706
DTSTAMP:20260423T190018
CREATED:20181003T160213Z
LAST-MODIFIED:20181003T160251Z
UID:4857-1562112000-1562371199@www.infanttoddler.com
SUMMARY:Independence Day Break
DESCRIPTION:Office and Family Child Care Homes will be CLOSED.
URL:https://www.infanttoddler.com/event/2019independencedaybreak/
END:VEVENT
BEGIN:VEVENT
DTSTART;TZID=America/New_York:20190716T183000
DTEND;TZID=America/New_York:20190716T200000
DTSTAMP:20260423T190018
CREATED:20190422T150230Z
LAST-MODIFIED:20190422T150324Z
UID:6099-1563301800-1563307200@www.infanttoddler.com
SUMMARY:Parent Information Session
DESCRIPTION:You are invited to learn more about Infant Toddler Family Day Care and how you can become part of our family. \nContact our office or complete a Child Care Application to register.
URL:https://www.infanttoddler.com/event/parent-information-session-7-16-2019/
LOCATION:Infant Toddler Family Day Care\, 11166 Fairfax Blvd.\, Suite 206\, Fairfax\, VA\, 22030\, United States
END:VEVENT
BEGIN:VEVENT
DTSTART;TZID=America/New_York:20190720T100000
DTEND;TZID=America/New_York:20190720T113000
DTSTAMP:20260423T190018
CREATED:20190422T150555Z
LAST-MODIFIED:20190422T150656Z
UID:6103-1563616800-1563622200@www.infanttoddler.com
SUMMARY:Parent Information Session
DESCRIPTION:You are invited to learn more about Infant Toddler Family Day Care and how you can become part of our family. \nContact our office or complete a Child Care Application to register.
URL:https://www.infanttoddler.com/event/parent-information-session-7-20-2019/
LOCATION:Infant Toddler Family Day Care\, 11166 Fairfax Blvd.\, Suite 206\, Fairfax\, VA\, 22030\, United States
END:VEVENT
BEGIN:VEVENT
DTSTART;TZID=America/New_York:20190729T130000
DTEND;TZID=America/New_York:20190729T143000
DTSTAMP:20260423T190018
CREATED:20190422T150709Z
LAST-MODIFIED:20190426T155948Z
UID:6106-1564405200-1564410600@www.infanttoddler.com
SUMMARY:Parent Information Session - Webinar
DESCRIPTION:You are invited to learn more about Infant Toddler Family Day Care and how you can become part of our family. \nContact our office or complete a Child Care Application to register.
URL:https://www.infanttoddler.com/event/parent-information-session-7-29-2019/
LOCATION:Webinar
END:VEVENT
END:VCALENDAR