BEGIN:VCALENDAR
VERSION:2.0
PRODID:-//Infant Toddler - ECPv6.15.12.1//NONSGML v1.0//EN
CALSCALE:GREGORIAN
METHOD:PUBLISH
X-ORIGINAL-URL:https://www.infanttoddler.com
X-WR-CALDESC:Events for Infant Toddler
REFRESH-INTERVAL;VALUE=DURATION:PT1H
X-Robots-Tag:noindex
X-PUBLISHED-TTL:PT1H
BEGIN:VTIMEZONE
TZID:America/New_York
BEGIN:DAYLIGHT
TZOFFSETFROM:-0500
TZOFFSETTO:-0400
TZNAME:EDT
DTSTART:20180311T070000
END:DAYLIGHT
BEGIN:STANDARD
TZOFFSETFROM:-0400
TZOFFSETTO:-0500
TZNAME:EST
DTSTART:20181104T060000
END:STANDARD
BEGIN:DAYLIGHT
TZOFFSETFROM:-0500
TZOFFSETTO:-0400
TZNAME:EDT
DTSTART:20190310T070000
END:DAYLIGHT
BEGIN:STANDARD
TZOFFSETFROM:-0400
TZOFFSETTO:-0500
TZNAME:EST
DTSTART:20191103T060000
END:STANDARD
BEGIN:DAYLIGHT
TZOFFSETFROM:-0500
TZOFFSETTO:-0400
TZNAME:EDT
DTSTART:20200308T070000
END:DAYLIGHT
BEGIN:STANDARD
TZOFFSETFROM:-0400
TZOFFSETTO:-0500
TZNAME:EST
DTSTART:20201101T060000
END:STANDARD
END:VTIMEZONE
BEGIN:VEVENT
DTSTART;TZID=America/New_York:20190604T110000
DTEND;TZID=America/New_York:20190604T123000
DTSTAMP:20260423T203903
CREATED:20190426T155444Z
LAST-MODIFIED:20190510T143749Z
UID:6147-1559646000-1559651400@www.infanttoddler.com
SUMMARY:Provider Orientation
DESCRIPTION:Register and Attend an upcoming Provider Information Session.
URL:https://www.infanttoddler.com/event/provider-orientation-june42019/
LOCATION:Infant Toddler Family Day Care\, 11166 Fairfax Blvd.\, Suite 206\, Fairfax\, VA\, 22030\, United States
END:VEVENT
BEGIN:VEVENT
DTSTART;TZID=America/New_York:20190610T130000
DTEND;TZID=America/New_York:20190610T143000
DTSTAMP:20260423T203903
CREATED:20190128T155444Z
LAST-MODIFIED:20190422T143852Z
UID:5595-1560171600-1560177000@www.infanttoddler.com
SUMMARY:Parent Information Session - Webinar
DESCRIPTION:You are invited to learn more about Infant Toddler Family Day Care and how you can become part of our family. \nContact our office or complete a Child Care Application to register.
URL:https://www.infanttoddler.com/event/parent-information-session-6-10-2019/
LOCATION:Webinar
END:VEVENT
BEGIN:VEVENT
DTSTART;TZID=America/New_York:20190612T190000
DTEND;TZID=America/New_York:20190612T210000
DTSTAMP:20260423T203903
CREATED:20190612T021003Z
LAST-MODIFIED:20190612T021138Z
UID:6483-1560366000-1560373200@www.infanttoddler.com
SUMMARY:Provider Advisory Meeting
DESCRIPTION:Learn about the latest about ITFDC\, discussion of rates\, policies\, marketing\, and more.
URL:https://www.infanttoddler.com/event/2019provideradvisorymtg/
LOCATION:Infant Toddler Family Day Care\, 11166 Fairfax Blvd.\, Suite 206\, Fairfax\, VA\, 22030\, United States
END:VEVENT
BEGIN:VEVENT
DTSTART;TZID=America/New_York:20190615T103000
DTEND;TZID=America/New_York:20190615T120000
DTSTAMP:20260423T203903
CREATED:20190128T155551Z
LAST-MODIFIED:20190128T155637Z
UID:5598-1560594600-1560600000@www.infanttoddler.com
SUMMARY:Parent Information Session
DESCRIPTION:You are invited to learn more about Infant Toddler Family Day Care and how you can become part of our family. \nContact our office or complete a Child Care Application to register.
URL:https://www.infanttoddler.com/event/parent-information-session-6-15-2019/
LOCATION:Infant Toddler Family Day Care\, 11166 Fairfax Blvd.\, Suite 206\, Fairfax\, VA\, 22030\, United States
END:VEVENT
BEGIN:VEVENT
DTSTART;TZID=America/New_York:20190619T150000
DTEND;TZID=America/New_York:20190619T163000
DTSTAMP:20260423T203903
CREATED:20190128T155652Z
LAST-MODIFIED:20190128T155735Z
UID:5601-1560956400-1560961800@www.infanttoddler.com
SUMMARY:Parent Information Session
DESCRIPTION:You are invited to learn more about Infant Toddler Family Day Care and how you can become part of our family. \nContact our office or complete a Child Care Application to register.
URL:https://www.infanttoddler.com/event/parent-information-session-6-19-2019/
LOCATION:Infant Toddler Family Day Care\, 11166 Fairfax Blvd.\, Suite 206\, Fairfax\, VA\, 22030\, United States
END:VEVENT
END:VCALENDAR