BEGIN:VCALENDAR
VERSION:2.0
PRODID:-//Infant Toddler - ECPv6.15.12.1//NONSGML v1.0//EN
CALSCALE:GREGORIAN
METHOD:PUBLISH
X-WR-CALNAME:Infant Toddler
X-ORIGINAL-URL:https://www.infanttoddler.com
X-WR-CALDESC:Events for Infant Toddler
REFRESH-INTERVAL;VALUE=DURATION:PT1H
X-Robots-Tag:noindex
X-PUBLISHED-TTL:PT1H
BEGIN:VTIMEZONE
TZID:America/New_York
BEGIN:DAYLIGHT
TZOFFSETFROM:-0500
TZOFFSETTO:-0400
TZNAME:EDT
DTSTART:20180311T070000
END:DAYLIGHT
BEGIN:STANDARD
TZOFFSETFROM:-0400
TZOFFSETTO:-0500
TZNAME:EST
DTSTART:20181104T060000
END:STANDARD
BEGIN:DAYLIGHT
TZOFFSETFROM:-0500
TZOFFSETTO:-0400
TZNAME:EDT
DTSTART:20190310T070000
END:DAYLIGHT
BEGIN:STANDARD
TZOFFSETFROM:-0400
TZOFFSETTO:-0500
TZNAME:EST
DTSTART:20191103T060000
END:STANDARD
BEGIN:DAYLIGHT
TZOFFSETFROM:-0500
TZOFFSETTO:-0400
TZNAME:EDT
DTSTART:20200308T070000
END:DAYLIGHT
BEGIN:STANDARD
TZOFFSETFROM:-0400
TZOFFSETTO:-0500
TZNAME:EST
DTSTART:20201101T060000
END:STANDARD
END:VTIMEZONE
BEGIN:VEVENT
DTSTART;TZID=America/New_York:20190403T093000
DTEND;TZID=America/New_York:20190403T113000
DTSTAMP:20260424T004654
CREATED:20190204T154317Z
LAST-MODIFIED:20190204T154424Z
UID:5642-1554283800-1554291000@www.infanttoddler.com
SUMMARY:Provider Orientation
DESCRIPTION:Register and Attend an upcoming Provider Information Session.
URL:https://www.infanttoddler.com/event/provider-orientation-apr32019/
LOCATION:Infant Toddler Family Day Care\, 11166 Fairfax Blvd.\, Suite 206\, Fairfax\, VA\, 22030\, United States
END:VEVENT
BEGIN:VEVENT
DTSTART;TZID=America/New_York:20190415T130000
DTEND;TZID=America/New_York:20190415T143000
DTSTAMP:20260424T004654
CREATED:20190128T154656Z
LAST-MODIFIED:20190401T201623Z
UID:5577-1555333200-1555338600@www.infanttoddler.com
SUMMARY:Parent Information Session - Webinar
DESCRIPTION:You are invited to learn more about Infant Toddler Family Day Care and how you can become part of our family. \nContact our office or complete a Child Care Application to register.
URL:https://www.infanttoddler.com/event/parent-information-session-4-15-2019/
LOCATION:Webinar
END:VEVENT
BEGIN:VEVENT
DTSTART;TZID=America/New_York:20190420T103000
DTEND;TZID=America/New_York:20190420T120000
DTSTAMP:20260424T004654
CREATED:20190128T154826Z
LAST-MODIFIED:20190128T154926Z
UID:5580-1555756200-1555761600@www.infanttoddler.com
SUMMARY:Parent Information Session
DESCRIPTION:You are invited to learn more about Infant Toddler Family Day Care and how you can become part of our family. \nContact our office or complete a Child Care Application to register.
URL:https://www.infanttoddler.com/event/parent-information-session-4-20-2019/
LOCATION:Infant Toddler Family Day Care\, 11166 Fairfax Blvd.\, Suite 206\, Fairfax\, VA\, 22030\, United States
END:VEVENT
BEGIN:VEVENT
DTSTART;TZID=America/New_York:20190425T183000
DTEND;TZID=America/New_York:20190425T200000
DTSTAMP:20260424T004654
CREATED:20190128T154953Z
LAST-MODIFIED:20190128T155032Z
UID:5583-1556217000-1556222400@www.infanttoddler.com
SUMMARY:Parent Information Session
DESCRIPTION:You are invited to learn more about Infant Toddler Family Day Care and how you can become part of our family. \nContact our office or complete a Child Care Application to register.
URL:https://www.infanttoddler.com/event/parent-information-session-4-25-2019/
LOCATION:Infant Toddler Family Day Care\, 11166 Fairfax Blvd.\, Suite 206\, Fairfax\, VA\, 22030\, United States
END:VEVENT
BEGIN:VEVENT
DTSTART;TZID=America/New_York:20190427T093000
DTEND;TZID=America/New_York:20190427T130000
DTSTAMP:20260424T004654
CREATED:20181207T174541Z
LAST-MODIFIED:20181207T175009Z
UID:5326-1556357400-1556370000@www.infanttoddler.com
SUMMARY:Child Assessment & Art Workshops
DESCRIPTION:Child Assessment Workshop with LuAnn Carrig                                                  9:30 AM- 11:00 AM \nArt Workshop with LuAnn Carrig                                                                           11:30 AM- 1:00 PM \nThere will be a half hour snack/ meal break OR two 15 minute breaks. NO FEE. \nAuthentic Assessment – Honoring Children’s Hard Work \nIn this workshop we will look at\, and talk about\, what assessment is – who and why are we conducting assessments; we will review the Virginia Foundation Blocks for Learning; examine the documentation process; complete several observations\,  talk about work samples; define the tools of the trade and finally understand how the use of a “portfolio” assists in planning learning opportunities\, and finally how portfolios provide necessary support during meetings with parents/guardians of the children in your care. \n  \nInfant/Toddler Art – Mess Is the BEST! \nArt experiences for infants and toddlers are important in supporting the development of their creativity and self-expression.  While art may look like a BIG MESS\, these experiences help to increase verbal abilities\, FREE thought and gives children the opportunity to develop a life-long love of art.  In this workshop we will look at how art impacts all areas of a child’s development\, how to implement meaningful activities in your daily plan and give attendees the opportunity to experience art activities that they can take back and implement in their program on Monday!
URL:https://www.infanttoddler.com/event/childassessmentartworkshops_04272019/
LOCATION:Infant Toddler Family Day Care\, 11166 Fairfax Blvd.\, Suite 206\, Fairfax\, VA\, 22030\, United States
END:VEVENT
END:VCALENDAR